BEGIN:VCALENDAR
PRODID:-//Hannon Hill Events//Cascade CMS//EN
VERSION:2.0
X-WR-CALNAME:Career Fair: Opportunities in K-12 Schools for Every Major
X-WR-TIMEZONE:America/New_York
BEGIN:VTIMEZONE
TZID:America/New_York
BEGIN:DAYLIGHT
TZOFFSETFROM:-0500
TZOFFSETTO:-0400
TZNAME:EDT
DTSTART:19700308T020000
RRULE:FREQ=YEARLY;BYMONTH=3;BYDAY=2SU
END:DAYLIGHT
BEGIN:STANDARD
TZOFFSETFROM:-0400
TZOFFSETTO:-0500
TZNAME:EST
DTSTART:19701101T020000
RRULE:FREQ=YEARLY;BYMONTH=11;BYDAY=1SU
END:STANDARD
END:VTIMEZONE
BEGIN:VEVENT
DTSTART:20260428T100000
DTEND:20260428T140000
DTSTAMP:20260413T112235
UID:454209190a00008e14bb2d9f137f598d
CREATED:20260331T135728
DESCRIPTION:Sponsored by the School of Education\, this Career Fair will s
 howcase the job opportunities for every major that are available in K-12 S
 chools.
LAST-MODIFIED:20260413T112225
SEQUENCE:0
STATUS:CONFIRMED
SUMMARY:Career Fair: Opportunities in K-12 Schools for Every Major
TRANSP:OPAQUE
END:VEVENT
END:VCALENDAR
